BEGIN:VCALENDAR
VERSION:2.0
PRODID:-//Building Bright Futures - ECPv6.15.20//NONSGML v1.0//EN
CALSCALE:GREGORIAN
METHOD:PUBLISH
X-WR-CALNAME:Building Bright Futures
X-ORIGINAL-URL:https://www.buildingbrightfutures.org
X-WR-CALDESC:Events for Building Bright Futures
REFRESH-INTERVAL;VALUE=DURATION:PT1H
X-Robots-Tag:noindex
X-PUBLISHED-TTL:PT1H
BEGIN:VTIMEZONE
TZID:America/New_York
BEGIN:DAYLIGHT
TZOFFSETFROM:-0500
TZOFFSETTO:-0400
TZNAME:EDT
DTSTART:20210314T070000
END:DAYLIGHT
BEGIN:STANDARD
TZOFFSETFROM:-0400
TZOFFSETTO:-0500
TZNAME:EST
DTSTART:20211107T060000
END:STANDARD
BEGIN:DAYLIGHT
TZOFFSETFROM:-0500
TZOFFSETTO:-0400
TZNAME:EDT
DTSTART:20220313T070000
END:DAYLIGHT
BEGIN:STANDARD
TZOFFSETFROM:-0400
TZOFFSETTO:-0500
TZNAME:EST
DTSTART:20221106T060000
END:STANDARD
BEGIN:DAYLIGHT
TZOFFSETFROM:-0500
TZOFFSETTO:-0400
TZNAME:EDT
DTSTART:20230312T070000
END:DAYLIGHT
BEGIN:STANDARD
TZOFFSETFROM:-0400
TZOFFSETTO:-0500
TZNAME:EST
DTSTART:20231105T060000
END:STANDARD
BEGIN:DAYLIGHT
TZOFFSETFROM:-0500
TZOFFSETTO:-0400
TZNAME:EDT
DTSTART:20240310T070000
END:DAYLIGHT
BEGIN:STANDARD
TZOFFSETFROM:-0400
TZOFFSETTO:-0500
TZNAME:EST
DTSTART:20241103T060000
END:STANDARD
END:VTIMEZONE
BEGIN:VEVENT
DTSTART;TZID=America/New_York:20221117T103000
DTEND;TZID=America/New_York:20221117T113000
DTSTAMP:20260421T173008
CREATED:20241029T020655Z
LAST-MODIFIED:20241029T020655Z
UID:10004672-1668681000-1668684600@www.buildingbrightfutures.org
SUMMARY:Rutland Regional Council Meeting
DESCRIPTION:Please contact Darla Senecal (dsenecal@buildingbrightfutures.org) for meeting information.
URL:https://www.buildingbrightfutures.org/event/rutland-regional-council-meeting-33/
LOCATION:contact Darla Senecal for videoconference link
CATEGORIES:Meeting
END:VEVENT
BEGIN:VEVENT
DTSTART;TZID=America/New_York:20221128T133000
DTEND;TZID=America/New_York:20221128T150000
DTSTAMP:20260421T173008
CREATED:20241029T020655Z
LAST-MODIFIED:20241029T020655Z
UID:10004658-1669642200-1669647600@www.buildingbrightfutures.org
SUMMARY:State Advisory Council
DESCRIPTION:
URL:https://www.buildingbrightfutures.org/event/state-advisory-council-20/
CATEGORIES:Archived Meeting,Meeting
END:VEVENT
BEGIN:VEVENT
DTSTART;TZID=America/New_York:20221201T100000
DTEND;TZID=America/New_York:20221201T113000
DTSTAMP:20260421T173008
CREATED:20241029T020655Z
LAST-MODIFIED:20241029T020655Z
UID:10004707-1669888800-1669894200@www.buildingbrightfutures.org
SUMMARY:Families and Communities Committee Meeting
DESCRIPTION:
URL:https://www.buildingbrightfutures.org/event/families-and-communities-committee-21/
CATEGORIES:Archived Meeting
END:VEVENT
BEGIN:VEVENT
DTSTART;TZID=America/New_York:20221208T100000
DTEND;TZID=America/New_York:20221208T120000
DTSTAMP:20260421T173008
CREATED:20241029T020846Z
LAST-MODIFIED:20241029T020846Z
UID:10004712-1670493600-1670500800@www.buildingbrightfutures.org
SUMMARY:Early Learning and Development Committee Meeting
DESCRIPTION:
URL:https://www.buildingbrightfutures.org/event/early-learning-and-development-4/
CATEGORIES:Archived Meeting,Meeting
END:VEVENT
BEGIN:VEVENT
DTSTART;TZID=America/New_York:20221212T133000
DTEND;TZID=America/New_York:20221212T150000
DTSTAMP:20260421T173008
CREATED:20241029T020846Z
LAST-MODIFIED:20241029T020846Z
UID:10004709-1670851800-1670857200@www.buildingbrightfutures.org
SUMMARY:Regional Council Summit
DESCRIPTION:
URL:https://www.buildingbrightfutures.org/event/regional-council-summit-2/
CATEGORIES:Event,Meeting
END:VEVENT
BEGIN:VEVENT
DTSTART;TZID=America/New_York:20221215T130000
DTEND;TZID=America/New_York:20221215T143000
DTSTAMP:20260421T173008
CREATED:20241029T020846Z
LAST-MODIFIED:20241029T020846Z
UID:10004693-1671109200-1671114600@www.buildingbrightfutures.org
SUMMARY:Data and Evaluation Committee Meeting
DESCRIPTION:Contact data@buildingbrightfutures.org for meeting details.
URL:https://www.buildingbrightfutures.org/event/data-and-evaluation-committee-6/
CATEGORIES:Archived Meeting,Meeting
END:VEVENT
BEGIN:VEVENT
DTSTART;TZID=America/New_York:20230105T100000
DTEND;TZID=America/New_York:20230105T113000
DTSTAMP:20260421T173008
CREATED:20241029T020846Z
LAST-MODIFIED:20241029T020846Z
UID:10004708-1672912800-1672918200@www.buildingbrightfutures.org
SUMMARY:Families and Communities Committee Meeting
DESCRIPTION:
URL:https://www.buildingbrightfutures.org/event/families-and-communities-committee-22/
CATEGORIES:Archived Meeting
END:VEVENT
BEGIN:VEVENT
DTSTART;TZID=America/New_York:20230109T130000
DTEND;TZID=America/New_York:20230109T140000
DTSTAMP:20260421T173008
CREATED:20241029T020846Z
LAST-MODIFIED:20241029T020846Z
UID:10004710-1673269200-1673272800@www.buildingbrightfutures.org
SUMMARY:Briefing: The State of Vermont's Children: 2022 Year in Review
DESCRIPTION:Hosted by the State Advisory Council \n 
URL:https://www.buildingbrightfutures.org/event/the-state-of-vermonts-young-children-and-families-virtual-briefing/
LOCATION:via Zoom
CATEGORIES:Meeting
END:VEVENT
BEGIN:VEVENT
DTSTART;TZID=America/New_York:20230110T200000
DTEND;TZID=America/New_York:20230110T210000
DTSTAMP:20260421T173008
CREATED:20241029T020846Z
LAST-MODIFIED:20241029T020846Z
UID:10004716-1673380800-1673384400@www.buildingbrightfutures.org
SUMMARY:Families and Communities Committee Meeting
DESCRIPTION:
URL:https://www.buildingbrightfutures.org/event/families-and-communities-committee-24/
CATEGORIES:Archived Meeting
END:VEVENT
BEGIN:VEVENT
DTSTART;TZID=America/New_York:20230113T100000
DTEND;TZID=America/New_York:20230113T120000
DTSTAMP:20260421T173008
CREATED:20241029T020845Z
LAST-MODIFIED:20241029T020845Z
UID:10004713-1673604000-1673611200@www.buildingbrightfutures.org
SUMMARY:Early Learning and Development Committee Meeting
DESCRIPTION:
URL:https://www.buildingbrightfutures.org/event/early-learning-and-development-5/
CATEGORIES:Archived Meeting,Meeting
END:VEVENT
BEGIN:VEVENT
DTSTART;TZID=America/New_York:20230202T100000
DTEND;TZID=America/New_York:20230202T113000
DTSTAMP:20260421T173008
CREATED:20241029T020845Z
LAST-MODIFIED:20241029T020845Z
UID:10004715-1675332000-1675337400@www.buildingbrightfutures.org
SUMMARY:Families and Communities Committee Meeting
DESCRIPTION:
URL:https://www.buildingbrightfutures.org/event/families-and-communities-committee-23/
CATEGORIES:Archived Meeting
END:VEVENT
BEGIN:VEVENT
DTSTART;TZID=America/New_York:20230209T100000
DTEND;TZID=America/New_York:20230209T120000
DTSTAMP:20260421T173008
CREATED:20241029T020845Z
LAST-MODIFIED:20241029T020845Z
UID:10004718-1675936800-1675944000@www.buildingbrightfutures.org
SUMMARY:Early Learning and Development Committee Meeting
DESCRIPTION:
URL:https://www.buildingbrightfutures.org/event/early-learning-and-development-7/
CATEGORIES:Archived Meeting,Meeting
END:VEVENT
BEGIN:VEVENT
DTSTART;TZID=America/New_York:20230213T133000
DTEND;TZID=America/New_York:20230213T150000
DTSTAMP:20260421T173008
CREATED:20241029T020845Z
LAST-MODIFIED:20241029T020845Z
UID:10004711-1676295000-1676300400@www.buildingbrightfutures.org
SUMMARY:State Advisory Council Meeting
DESCRIPTION:
URL:https://www.buildingbrightfutures.org/event/state-advisory-council-21/
LOCATION:via Zoom
CATEGORIES:Archived Meeting,Meeting
END:VEVENT
BEGIN:VEVENT
DTSTART;TZID=America/New_York:20230214T200000
DTEND;TZID=America/New_York:20230214T210000
DTSTAMP:20260421T173008
CREATED:20241029T020845Z
LAST-MODIFIED:20241029T020845Z
UID:10004723-1676404800-1676408400@www.buildingbrightfutures.org
SUMMARY:Families and Communities Committee Meeting
DESCRIPTION:
URL:https://www.buildingbrightfutures.org/event/families-and-communities-committee-26/
CATEGORIES:Archived Meeting
END:VEVENT
BEGIN:VEVENT
DTSTART;TZID=America/New_York:20230302T100000
DTEND;TZID=America/New_York:20230302T113000
DTSTAMP:20260421T173008
CREATED:20241029T020845Z
LAST-MODIFIED:20241029T020845Z
UID:10004724-1677751200-1677756600@www.buildingbrightfutures.org
SUMMARY:Families and Communities Committee Meeting
DESCRIPTION:
URL:https://www.buildingbrightfutures.org/event/families-and-communities-committee-27/
CATEGORIES:Archived Meeting
END:VEVENT
BEGIN:VEVENT
DTSTART;TZID=America/New_York:20230309T100000
DTEND;TZID=America/New_York:20230309T120000
DTSTAMP:20260421T173008
CREATED:20241029T020844Z
LAST-MODIFIED:20241029T020844Z
UID:10004717-1678356000-1678363200@www.buildingbrightfutures.org
SUMMARY:Early Learning and Development Committee Meeting
DESCRIPTION:
URL:https://www.buildingbrightfutures.org/event/early-learning-and-development-6/
CATEGORIES:Archived Meeting,Meeting
END:VEVENT
BEGIN:VEVENT
DTSTART;TZID=America/New_York:20230314T200000
DTEND;TZID=America/New_York:20230314T210000
DTSTAMP:20260421T173008
CREATED:20241029T020844Z
LAST-MODIFIED:20241029T020844Z
UID:10004725-1678824000-1678827600@www.buildingbrightfutures.org
SUMMARY:Families and Communities Committee Meeting
DESCRIPTION:
URL:https://www.buildingbrightfutures.org/event/families-and-communities-committee-28/
CATEGORIES:Archived Meeting
END:VEVENT
BEGIN:VEVENT
DTSTART;TZID=America/New_York:20230316T130000
DTEND;TZID=America/New_York:20230316T143000
DTSTAMP:20260421T173008
CREATED:20241029T020844Z
LAST-MODIFIED:20241029T020844Z
UID:10004714-1678971600-1678977000@www.buildingbrightfutures.org
SUMMARY:Data and Evaluation Committee Meeting
DESCRIPTION:Contact data@buildingbrightfutures.org for meeting details.
URL:https://www.buildingbrightfutures.org/event/data-and-evaluation-committee-7/
CATEGORIES:Archived Meeting,Event,Meeting
END:VEVENT
BEGIN:VEVENT
DTSTART;TZID=America/New_York:20230327T133000
DTEND;TZID=America/New_York:20230327T150000
DTSTAMP:20260421T173008
CREATED:20241029T020844Z
LAST-MODIFIED:20241029T020844Z
UID:10004719-1679923800-1679929200@www.buildingbrightfutures.org
SUMMARY:State Advisory Council Meeting
DESCRIPTION:
URL:https://www.buildingbrightfutures.org/event/state-advisory-council-22/
CATEGORIES:Archived Meeting,Meeting
END:VEVENT
BEGIN:VEVENT
DTSTART;TZID=America/New_York:20230406T100000
DTEND;TZID=America/New_York:20230406T113000
DTSTAMP:20260421T173008
CREATED:20241029T020844Z
LAST-MODIFIED:20241029T020844Z
UID:10004726-1680775200-1680780600@www.buildingbrightfutures.org
SUMMARY:Families and Communities Committee Meeting
DESCRIPTION:
URL:https://www.buildingbrightfutures.org/event/families-and-communities-committee-29/
CATEGORIES:Archived Meeting
END:VEVENT
BEGIN:VEVENT
DTSTART;TZID=America/New_York:20230411T200000
DTEND;TZID=America/New_York:20230411T210000
DTSTAMP:20260421T173008
CREATED:20241029T020844Z
LAST-MODIFIED:20241029T020844Z
UID:10004727-1681243200-1681246800@www.buildingbrightfutures.org
SUMMARY:Families and Communities Committee Meeting
DESCRIPTION:
URL:https://www.buildingbrightfutures.org/event/families-and-communities-committee-30/
CATEGORIES:Archived Meeting
END:VEVENT
BEGIN:VEVENT
DTSTART;TZID=America/New_York:20230413T100000
DTEND;TZID=America/New_York:20230413T120000
DTSTAMP:20260421T173008
CREATED:20241029T020843Z
LAST-MODIFIED:20241029T020843Z
UID:10004721-1681380000-1681387200@www.buildingbrightfutures.org
SUMMARY:Early Learning and Development Committee Meeting
DESCRIPTION:
URL:https://www.buildingbrightfutures.org/event/early-learning-and-development-8/
CATEGORIES:Archived Meeting,Meeting
END:VEVENT
BEGIN:VEVENT
DTSTART;TZID=America/New_York:20230504T100000
DTEND;TZID=America/New_York:20230504T113000
DTSTAMP:20260421T173008
CREATED:20241029T020843Z
LAST-MODIFIED:20241029T020843Z
UID:10004728-1683194400-1683199800@www.buildingbrightfutures.org
SUMMARY:Families and Communities Committee Meeting
DESCRIPTION:
URL:https://www.buildingbrightfutures.org/event/families-and-communities-committee-31/
CATEGORIES:Archived Meeting
END:VEVENT
BEGIN:VEVENT
DTSTART;TZID=America/New_York:20230509T200000
DTEND;TZID=America/New_York:20230509T210000
DTSTAMP:20260421T173008
CREATED:20241029T020631Z
LAST-MODIFIED:20241029T020631Z
UID:10004722-1683662400-1683666000@www.buildingbrightfutures.org
SUMMARY:Families and Communities Committee Meeting
DESCRIPTION:
URL:https://www.buildingbrightfutures.org/event/families-and-communities-committee-25/
CATEGORIES:Archived Meeting
END:VEVENT
BEGIN:VEVENT
DTSTART;TZID=America/New_York:20230522T130000
DTEND;TZID=America/New_York:20230522T150000
DTSTAMP:20260421T173008
CREATED:20241029T020631Z
LAST-MODIFIED:20241029T020631Z
UID:10004720-1684760400-1684767600@www.buildingbrightfutures.org
SUMMARY:VECAP Summit/State Advisory Council Meeting
DESCRIPTION:
URL:https://www.buildingbrightfutures.org/event/vecap-summit-state-advisory-council/
LOCATION:via Zoom
CATEGORIES:Meeting
END:VEVENT
BEGIN:VEVENT
DTSTART;TZID=America/New_York:20230525T090000
DTEND;TZID=America/New_York:20230525T103000
DTSTAMP:20260421T173008
CREATED:20241029T020631Z
LAST-MODIFIED:20241029T020631Z
UID:10004730-1685005200-1685010600@www.buildingbrightfutures.org
SUMMARY:Child Outcomes Accountability Team Meeting
DESCRIPTION:
URL:https://www.buildingbrightfutures.org/event/child-outcomes-accountability-team-15/
CATEGORIES:Meeting
END:VEVENT
BEGIN:VEVENT
DTSTART;TZID=America/New_York:20230601T100000
DTEND;TZID=America/New_York:20230601T113000
DTSTAMP:20260421T173008
CREATED:20241029T020630Z
LAST-MODIFIED:20241029T020630Z
UID:10004729-1685613600-1685619000@www.buildingbrightfutures.org
SUMMARY:Families and Communities Committee Meeting
DESCRIPTION:
URL:https://www.buildingbrightfutures.org/event/families-and-communities-committee-32/
CATEGORIES:Archived Meeting
END:VEVENT
BEGIN:VEVENT
DTSTART;TZID=America/New_York:20230608T130000
DTEND;TZID=America/New_York:20230608T140000
DTSTAMP:20260421T173008
CREATED:20241029T020630Z
LAST-MODIFIED:20241029T020630Z
UID:10004732-1686229200-1686232800@www.buildingbrightfutures.org
SUMMARY:Data and Evaluation Committee Meeting
DESCRIPTION:Contact data@buildingbrightfutures.org for meeting details.
URL:https://www.buildingbrightfutures.org/event/data-and-evaluation-committee-8/
CATEGORIES:Archived Meeting,Event,Meeting
END:VEVENT
BEGIN:VEVENT
DTSTART;TZID=America/New_York:20230613T200000
DTEND;TZID=America/New_York:20230613T210000
DTSTAMP:20260421T173008
CREATED:20241029T020630Z
LAST-MODIFIED:20241029T020630Z
UID:10004731-1686686400-1686690000@www.buildingbrightfutures.org
SUMMARY:Families and Communities Committee Meeting
DESCRIPTION:
URL:https://www.buildingbrightfutures.org/event/families-and-communities-committee-33/
CATEGORIES:Archived Meeting
END:VEVENT
BEGIN:VEVENT
DTSTART;TZID=America/New_York:20230711T200000
DTEND;TZID=America/New_York:20230711T210000
DTSTAMP:20260421T173008
CREATED:20241029T020630Z
LAST-MODIFIED:20241029T020630Z
UID:10004733-1689105600-1689109200@www.buildingbrightfutures.org
SUMMARY:Families and Communities Committee Meeting
DESCRIPTION:
URL:https://www.buildingbrightfutures.org/event/families-and-communities-committee-34/
CATEGORIES:Archived Meeting
END:VEVENT
END:VCALENDAR